BEGIN:VCALENDAR
VERSION:2.0
CALSCALE:GREGORIAN
PRODID:adamgibbons/ics
METHOD:PUBLISH
X-PUBLISHED-TTL:PT1H
BEGIN:VEVENT
UID:50@tucsontimeline.info
SUMMARY:March Against Prop 314
DTSTAMP:20260425T140456Z
DTSTART:20241011T150000Z
DESCRIPTION:Join us in a march against Prop 314\, an anti-immigrant and rac
	ist bill. Let's\nraise our voices and show the authorities that we will no
	t stand for this! Our\nimmigrant community is the backbone of our economy 
	and brings cultural diversity\nto our state. The march will take place at 
	Josefina Ahumada Worker Center: 317 W\n23rd St\, Tucson on October 11 at 8
	:00 a.m.\n\nLet’s come together and make a difference!
URL:https://tucsontimeline.info/event/march-against-prop-314
LOCATION:Josefina Ahumada Worker Center - 317 W. 23rd St Tucson\, AZ 85713
STATUS:CONFIRMED
CATEGORIES:activism,good causes
X-ALT-DESC;FMTTYPE=text/html:<p>Join us in a march against Prop 314, an ant
	i-immigrant and racist bill. Let's raise our voices and show the authoriti
	es that we will not stand for this! Our immigrant community is the backbon
	e of our economy and brings cultural diversity to our state. The march wil
	l take place at Josefina Ahumada Worker Center: 317 W 23rd St, Tucson on O
	ctober 11 at 8:00 a.m.</p><p>Let’s come together and make a difference!</p
	>
END:VEVENT
END:VCALENDAR
